BEGIN:VCALENDAR
VERSION:2.0
PRODID:-//Texcon - ECPv6.15.16.1//NONSGML v1.0//EN
CALSCALE:GREGORIAN
METHOD:PUBLISH
X-ORIGINAL-URL:https://www.texcon.no
X-WR-CALDESC:Arrangement for Texcon
REFRESH-INTERVAL;VALUE=DURATION:PT1H
X-Robots-Tag:noindex
X-PUBLISHED-TTL:PT1H
BEGIN:VTIMEZONE
TZID:Europe/Oslo
BEGIN:DAYLIGHT
TZOFFSETFROM:+0100
TZOFFSETTO:+0200
TZNAME:CEST
DTSTART:20250330T010000
END:DAYLIGHT
BEGIN:STANDARD
TZOFFSETFROM:+0200
TZOFFSETTO:+0100
TZNAME:CET
DTSTART:20251026T010000
END:STANDARD
BEGIN:DAYLIGHT
TZOFFSETFROM:+0100
TZOFFSETTO:+0200
TZNAME:CEST
DTSTART:20260329T010000
END:DAYLIGHT
BEGIN:STANDARD
TZOFFSETFROM:+0200
TZOFFSETTO:+0100
TZNAME:CET
DTSTART:20261025T010000
END:STANDARD
BEGIN:DAYLIGHT
TZOFFSETFROM:+0100
TZOFFSETTO:+0200
TZNAME:CEST
DTSTART:20270328T010000
END:DAYLIGHT
BEGIN:STANDARD
TZOFFSETFROM:+0200
TZOFFSETTO:+0100
TZNAME:CET
DTSTART:20271031T010000
END:STANDARD
END:VTIMEZONE
BEGIN:VEVENT
DTSTART;TZID=Europe/Oslo:20260616T060000
DTEND;TZID=Europe/Oslo:20260619T150000
DTSTAMP:20260422T105510
CREATED:20231017T120731Z
LAST-MODIFIED:20260421T123944Z
UID:8703-1781589600-1781881200@www.texcon.no
SUMMARY:Pitti Immagine Bimbo
DESCRIPTION:
URL:https://www.texcon.no/event/pitti-immagine-bimbo/
LOCATION:Firenze\, Firenze
CATEGORIES:Messer
END:VEVENT
BEGIN:VEVENT
DTSTART;TZID=Europe/Oslo:20260623T060000
DTEND;TZID=Europe/Oslo:20260628T150000
DTSTAMP:20260422T105510
CREATED:20241018T095057Z
LAST-MODIFIED:20260421T124127Z
UID:10323-1782194400-1782658800@www.texcon.no
SUMMARY:Paris Menswear
DESCRIPTION:
URL:https://www.texcon.no/event/paris-menswear/
LOCATION:Paris Man\, PARIS\, Frankrike
CATEGORIES:Messer
END:VEVENT
BEGIN:VEVENT
DTSTART;TZID=Europe/Oslo:20260702T060000
DTEND;TZID=Europe/Oslo:20260705T150000
DTSTAMP:20260422T105510
CREATED:20231017T120546Z
LAST-MODIFIED:20260421T124237Z
UID:8696-1782972000-1783263600@www.texcon.no
SUMMARY:Fashiontech
DESCRIPTION:
URL:https://www.texcon.no/event/fashiontech/
LOCATION:Berlin\, Berlin
CATEGORIES:Messer
END:VEVENT
BEGIN:VEVENT
DTSTART;TZID=Europe/Oslo:20260705T060000
DTEND;TZID=Europe/Oslo:20260706T150000
DTSTAMP:20260422T105510
CREATED:20231017T121522Z
LAST-MODIFIED:20260421T124018Z
UID:8731-1783231200-1783350000@www.texcon.no
SUMMARY:Modefabriek
DESCRIPTION:
URL:https://www.texcon.no/event/modefabriek/
LOCATION:Amsterdam\, Amsterdam
CATEGORIES:Messer
END:VEVENT
BEGIN:VEVENT
DTSTART;TZID=Europe/Oslo:20260707T060000
DTEND;TZID=Europe/Oslo:20260709T150000
DTSTAMP:20260422T105510
CREATED:20231017T123541Z
LAST-MODIFIED:20260421T124046Z
UID:8804-1783404000-1783609200@www.texcon.no
SUMMARY:Unica
DESCRIPTION:
URL:https://www.texcon.no/event/unica/
LOCATION:Milano\, Milano
CATEGORIES:Messer
END:VEVENT
BEGIN:VEVENT
DTSTART;TZID=Europe/Oslo:20260803T060000
DTEND;TZID=Europe/Oslo:20260807T150000
DTSTAMP:20260422T105510
CREATED:20231017T123105Z
LAST-MODIFIED:20260421T124206Z
UID:8788-1785736800-1786114800@www.texcon.no
SUMMARY:Copenhagen Fashion Week
DESCRIPTION:
URL:https://www.texcon.no/event/copenhagen-fashion-week/
LOCATION:København\, Copenhagen\, Danmark
CATEGORIES:Messer
END:VEVENT
BEGIN:VEVENT
DTSTART;TZID=Europe/Oslo:20260807T060000
DTEND;TZID=Europe/Oslo:20260813T150000
DTSTAMP:20260422T105510
CREATED:20231017T123721Z
LAST-MODIFIED:20260421T124306Z
UID:8815-1786082400-1786633200@www.texcon.no
SUMMARY:Norwegian Fashion Week
DESCRIPTION:
URL:https://www.texcon.no/event/norwegian-fashion-week/
LOCATION:Oslo\, Oslo
CATEGORIES:Messer
END:VEVENT
BEGIN:VEVENT
DTSTART;TZID=Europe/Oslo:20260810T060000
DTEND;TZID=Europe/Oslo:20260814T150000
DTSTAMP:20260422T105510
CREATED:20231017T124203Z
LAST-MODIFIED:20260421T124404Z
UID:8835-1786341600-1786719600@www.texcon.no
SUMMARY:Fashion Week Trade
DESCRIPTION:
URL:https://www.texcon.no/event/fashion-week-trade/
LOCATION:Stockholm\, Stockholm\, Sverige
CATEGORIES:Messer
END:VEVENT
BEGIN:VEVENT
DTSTART;TZID=Europe/Oslo:20260831T060000
DTEND;TZID=Europe/Oslo:20260902T150000
DTSTAMP:20260422T105510
CREATED:20231017T121708Z
LAST-MODIFIED:20260421T124338Z
UID:8738-1788156000-1788361200@www.texcon.no
SUMMARY:Oslo Design Fair
DESCRIPTION:
URL:https://www.texcon.no/event/oslo-design-fair/
LOCATION:Lillestrøm\, LILLESTRØM\, Norge
CATEGORIES:Messer
END:VEVENT
BEGIN:VEVENT
DTSTART;TZID=Europe/Oslo:20260928T060000
DTEND;TZID=Europe/Oslo:20261006T150000
DTSTAMP:20260422T105510
CREATED:20241018T095236Z
LAST-MODIFIED:20260421T124430Z
UID:10328-1790575200-1791298800@www.texcon.no
SUMMARY:Paris Womenswear
DESCRIPTION:
URL:https://www.texcon.no/event/paris-womenswear/
LOCATION:Paris Woman\, PARIS\, Frankrike
CATEGORIES:Messer
END:VEVENT
END:VCALENDAR